BEGIN:VCALENDAR
VERSION:2.0
PRODID:-//eventon.com NONSGML v1.0//EN
BEGIN:VEVENT
UID:69e72ca644244
DTSTAMP:20260421T075206
DTSTART:20240620T150000Z
DTEND:20240621T045000Z
TZID:America/Chicago
LOCATION:
SUMMARY:CELEBRATION 2024
DESCRIPTION: Join us as we honor the 40th anniversary of Purple Rain. All guests will experience world class music\,  celebrity panels\,  exclusive concert footage\,  multiple activations in downtown Minneapolis and a newly curated Paisley Park Tour\,  and more. THURSDAY 6/20 VIP ·&nbsp;&nbsp;&nbsp;&nbsp;&nbsp;&nbsp;&nbsp; Exclusive Listening Session (Unreleased Vault Material) at Paisley Park[..]
URL:https://celebrationtrip.com/events/celebration-2024/
END:VEVENT
END:VCALENDAR