BEGIN:VCALENDAR
VERSION:2.0
PRODID:-//eventon.com NONSGML v1.0//EN
BEGIN:VEVENT
UID:69eb93f35c6ce
DTSTAMP:20260424T160155
DTSTART:20240418T213000Z
DTEND:20240419T013000Z
TZID:America/Chicago
LOCATION:Bunker's Music Bar & Grill 761 N. Washington Ave. Minneapolis\,  MN 55401
SUMMARY:The People's Meet & Greet 5th Edition
DESCRIPTION: The People's Meet & Greet 5th Edition
URL:https://celebrationtrip.com/events/the-peoples-meet-greet-5th-edition/
END:VEVENT
END:VCALENDAR